BEGIN:VCALENDAR
VERSION:2.0
PRODID:-//https://test.ehbohilversum.nl///NONSGML kigkonsult.se iCalcreator 2.10.15//
METHOD:PUBLISH
BEGIN:VEVENT
UID:20260422T142643UTC-91690eTKVv@https://test.ehbohilversum.nl/
DTSTAMP:20260422T142643Z
DESCRIPTION: \n\n\n\n \n \n\n\nDatum:\nDonderdag 26 januari 2023\n\n\nTijd
 \n20:00 uur - 22:00 uur\n\n\nOmschrijving\nVervolgcursus reanimatie- en AE
 D\n\n\nPlaats:\nLeslokaal EHBO Hilversum\n\n\n \nFranciscusweg 20a (nieuwe
  locatie)\n\n\n \n1216 SK Hilversum\n\n\nBelangrijk:\nNa inschrijving kunt
  u met iDEAL uw cursusgeld voldoen.\n\n\n\n \n  https://test.ehbohilversum
 .nl/cursussen/reanimatie-basis-2/aanmelden-reanimatie-vervolg/evenement/17
 0-reanimatie-en-aed-26-01-23-v
DTSTART:20230126T190000Z
DTEND:20230126T210000Z
LOCATION:Leslokaal EHBO Hilversum (nieuwe locatie) (Franciscusweg 20A\, 121
 6 SK Hilversum\, Nederland)
SUMMARY:Reanimatie- en AED 26-01-23 V
URL:https://test.ehbohilversum.nl/cursussen/reanimatie-basis-2/aanmelden-re
 animatie-vervolg/evenement/170-reanimatie-en-aed-26-01-23-v
END:VEVENT
END:VCALENDAR
