BEGIN:VCALENDAR
VERSION:2.0
PRODID:-//https://test.ehbohilversum.nl///NONSGML kigkonsult.se iCalcreator 2.10.15//
METHOD:PUBLISH
BEGIN:VEVENT
UID:20260422T142541UTC-3101KNGuJE@https://test.ehbohilversum.nl/
DTSTAMP:20260422T142541Z
DESCRIPTION: \n\n\n\n \n \n\n\nDatum:\nDonderdag 16 februari 2023\n\n\nTijd
 \n20:00 uur - 22:00 uur\n\n\nOmschrijving\nVervolgcursus reanimatie- en AE
 D\n\n\nPlaats:\nLeslokaal EHBO Hilversum\n\n\n \nFranciscusweg 20a (nieuwe
  locatie)\n\n\n \n1216 SK Hilversum\n\n\nBelangrijk:\nNa inschrijving kunt
  u met iDEAL uw cursusgeld voldoen.\n\n\n\n \n  https://test.ehbohilversum
 .nl/cursussen/reanimatie-basis-2/aanmelden-reanimatie-vervolg/evenement/17
 1-reanimatie-en-aed-16-02-23-v
DTSTART:20230216T190000Z
DTEND:20230216T210000Z
LOCATION:Leslokaal EHBO Hilversum (nieuwe locatie) (Franciscusweg 20A\, 121
 6 SK Hilversum\, Nederland)
SUMMARY:Reanimatie- en AED 16-02-23 V
URL:https://test.ehbohilversum.nl/cursussen/reanimatie-basis-2/aanmelden-re
 animatie-vervolg/evenement/171-reanimatie-en-aed-16-02-23-v
END:VEVENT
END:VCALENDAR
