BEGIN:VCALENDAR
VERSION:2.0
PRODID:-//https://test.ehbohilversum.nl///NONSGML kigkonsult.se iCalcreator 2.10.15//
METHOD:PUBLISH
BEGIN:VEVENT
UID:20260422T142612UTC-6412KW0K5J@https://test.ehbohilversum.nl/
DTSTAMP:20260422T142612Z
DESCRIPTION: \n\n\n\n \n \n\n\nDatum:\nDonderdag 30 maart 2023\n\n\nTijd\n2
 0:00 uur - 22:00 uur\n\n\nOmschrijving\nVervolgcursus reanimatie- en AED\n
 \n\nPlaats:\nLeslokaal EHBO Hilversum\n\n\n \nFranciscusweg 20a (nieuwe lo
 catie)\n\n\n \n1216 SK Hilversum\n\n\nBelangrijk:\nNa inschrijving kunt u 
 met iDEAL uw cursusgeld voldoen.\n\n\n\n \n  https://test.ehbohilversum.nl
 /cursussen/reanimatie-basis-2/aanmelden-reanimatie-vervolg/evenement/173-r
 eanimatie-en-aed-06-04-23-v
DTSTART:20230406T180000Z
DTEND:20230406T200000Z
LOCATION:Leslokaal EHBO Hilversum (nieuwe locatie) (Franciscusweg 20A\, 121
 6 SK Hilversum\, Nederland)
SUMMARY:Reanimatie- en AED 06-04-23 V
URL:https://test.ehbohilversum.nl/cursussen/reanimatie-basis-2/aanmelden-re
 animatie-vervolg/evenement/173-reanimatie-en-aed-06-04-23-v
END:VEVENT
END:VCALENDAR
