BEGIN:VCALENDAR
VERSION:2.0
PRODID:-//https://test.ehbohilversum.nl///NONSGML kigkonsult.se iCalcreator 2.10.15//
METHOD:PUBLISH
BEGIN:VEVENT
UID:20260422T142106UTC-4313fhMx6v@https://test.ehbohilversum.nl/
DTSTAMP:20260422T142106Z
DESCRIPTION: \n\n\n\n \n \n\n\nDatum:\nDinsdag 17 januari 2023\n\n\nTijd\n1
 9:00 uur - 22:00 uur\n\n\nOmschrijving\nBasiscursus reanimatie- en AED\n\n
 \nPlaats:\nLeslokaal EHBO Hilversum\n\n\n \nFranciscusweg 20a (nieuwe loca
 tie)\n\n\n \n1216 SK Hilversum\n\n\nBelangrijk:\nNa inschrijving kunt u me
 t iDEAL uw cursusgeld voldoen.\n\n\n\n \n  https://test.ehbohilversum.nl/c
 ursussen/reanimatie-basis/aanmelden-reanimatie-basis/evenement/152-reanima
 tie-en-aed-17-01-23-b
DTSTART:20230117T180000Z
DTEND:20230117T210000Z
LOCATION:Leslokaal EHBO Hilversum (nieuwe locatie) (Franciscusweg 20A\, 121
 6 SK Hilversum\, Nederland)
SUMMARY:Reanimatie- en AED 17-01-23 B
URL:https://test.ehbohilversum.nl/cursussen/reanimatie-basis/aanmelden-rean
 imatie-basis/evenement/152-reanimatie-en-aed-17-01-23-b
END:VEVENT
END:VCALENDAR
