BEGIN:VCALENDAR
VERSION:2.0
PRODID:-//https://test.ehbohilversum.nl///NONSGML kigkonsult.se iCalcreator 2.10.15//
METHOD:PUBLISH
BEGIN:VEVENT
UID:20260422T155917UTC-9287M102zU@https://test.ehbohilversum.nl/
DTSTAMP:20260422T155917Z
DESCRIPTION: \n\n\n\n \n \n\n\nDatum:\nDinsdag 31 januari 2023\n\n\nTijd\n1
 9:00 uur - 22:00 uur\n\n\nOmschrijving\nBasiscursus reanimatie- en AED\n\n
 \nPlaats:\nLeslokaal EHBO Hilversum\n\n\n \nFranciscusweg 20a (nieuwe loca
 tie)\n\n\n \n1216 SK Hilversum\n\n\nBelangrijk:\nNa inschrijving kunt u me
 t iDEAL uw cursusgeld voldoen.\n\n\n\n \n  https://test.ehbohilversum.nl/c
 ursussen/reanimatie-basis/aanmelden-reanimatie-basis/evenement/153-reanima
 tie-en-aed-31-01-23-b
DTSTART:20230131T180000Z
DTEND:20230131T210000Z
LOCATION:Leslokaal EHBO Hilversum (nieuwe locatie) (Franciscusweg 20A\, 121
 6 SK Hilversum\, Nederland)
SUMMARY:Reanimatie- en AED 31-01-23 B
URL:https://test.ehbohilversum.nl/cursussen/reanimatie-basis/aanmelden-rean
 imatie-basis/evenement/153-reanimatie-en-aed-31-01-23-b
END:VEVENT
END:VCALENDAR
