BEGIN:VCALENDAR
VERSION:2.0
PRODID:-//https://test.ehbohilversum.nl///NONSGML kigkonsult.se iCalcreator 2.10.15//
METHOD:PUBLISH
BEGIN:VEVENT
UID:20260422T142208UTC-3902PpgPos@https://test.ehbohilversum.nl/
DTSTAMP:20260422T142208Z
DESCRIPTION: \n\n\n\n \n \n\n\nDatum:\nDinsdag 21 februari 2023\n\n\nTijd\n
 19:00 uur - 22:00 uur\n\n\nOmschrijving\nBasiscursus reanimatie- en AED\n
 \n\nPlaats:\nLeslokaal EHBO Hilversum\n\n\n \nFranciscusweg 20a (nieuwe lo
 catie)\n\n\n \n1216 SK Hilversum\n\n\nBelangrijk:\nNa inschrijving kunt u 
 met iDEAL uw cursusgeld voldoen.\n\n\n\n \n  https://test.ehbohilversum.nl
 /cursussen/reanimatie-basis/aanmelden-reanimatie-basis/evenement/154-reani
 matie-en-aed-21-02-23-b
DTSTART:20230221T180000Z
DTEND:20230221T210000Z
LOCATION:Leslokaal EHBO Hilversum (nieuwe locatie) (Franciscusweg 20A\, 121
 6 SK Hilversum\, Nederland)
SUMMARY:Reanimatie- en AED 21-02-23 B
URL:https://test.ehbohilversum.nl/cursussen/reanimatie-basis/aanmelden-rean
 imatie-basis/evenement/154-reanimatie-en-aed-21-02-23-b
END:VEVENT
END:VCALENDAR
