BEGIN:VCALENDAR
VERSION:2.0
PRODID:-//https://test.ehbohilversum.nl///NONSGML kigkonsult.se iCalcreator 2.10.15//
METHOD:PUBLISH
BEGIN:VEVENT
UID:20260422T142203UTC-4424O5FphM@https://test.ehbohilversum.nl/
DTSTAMP:20260422T142203Z
DESCRIPTION: \n\n\n\n \n \n\n\nDatum:\nDinsdag 25 april 2023\n\n\nTijd\n19:
 00 uur - 22:00 uur\n\n\nOmschrijving\nBasiscursus reanimatie- en AED\n\n\n
 Plaats:\nLeslokaal EHBO Hilversum\n\n\n \nFranciscusweg 20a (nieuwe locati
 e)\n\n\n \n1216 SK Hilversum\n\n\nBelangrijk:\nNa inschrijving kunt u met 
 iDEAL uw cursusgeld voldoen.\n\n\n\n \n  https://test.ehbohilversum.nl/cur
 sussen/reanimatie-basis/aanmelden-reanimatie-basis/evenement/157-reanimati
 e-en-aed-25-04-23-b
DTSTART:20251129T180000Z
DTEND:20251129T210000Z
LOCATION:Leslokaal EHBO Hilversum (nieuwe locatie) (Franciscusweg 20A\, 121
 6 SK Hilversum\, Nederland)
SUMMARY:Reanimatie- en AED 25-04-23 B
URL:https://test.ehbohilversum.nl/cursussen/reanimatie-basis/aanmelden-rean
 imatie-basis/evenement/157-reanimatie-en-aed-25-04-23-b
END:VEVENT
END:VCALENDAR
